BEGIN:VCALENDAR
VERSION:2.0
PRODID:-//KoKoPol Kompetenz- und Koordinationszentrum Polnisch - ECPv6.15.20//NONSGML v1.0//EN
CALSCALE:GREGORIAN
METHOD:PUBLISH
X-ORIGINAL-URL:https://kokopol.eu
X-WR-CALDESC:Veranstaltungen für KoKoPol Kompetenz- und Koordinationszentrum Polnisch
REFRESH-INTERVAL;VALUE=DURATION:PT1H
X-Robots-Tag:noindex
X-PUBLISHED-TTL:PT1H
BEGIN:VTIMEZONE
TZID:Europe/Berlin
BEGIN:DAYLIGHT
TZOFFSETFROM:+0100
TZOFFSETTO:+0200
TZNAME:CEST
DTSTART:20230326T010000
END:DAYLIGHT
BEGIN:STANDARD
TZOFFSETFROM:+0200
TZOFFSETTO:+0100
TZNAME:CET
DTSTART:20231029T010000
END:STANDARD
BEGIN:DAYLIGHT
TZOFFSETFROM:+0100
TZOFFSETTO:+0200
TZNAME:CEST
DTSTART:20240331T010000
END:DAYLIGHT
BEGIN:STANDARD
TZOFFSETFROM:+0200
TZOFFSETTO:+0100
TZNAME:CET
DTSTART:20241027T010000
END:STANDARD
BEGIN:DAYLIGHT
TZOFFSETFROM:+0100
TZOFFSETTO:+0200
TZNAME:CEST
DTSTART:20250330T010000
END:DAYLIGHT
BEGIN:STANDARD
TZOFFSETFROM:+0200
TZOFFSETTO:+0100
TZNAME:CET
DTSTART:20251026T010000
END:STANDARD
END:VTIMEZONE
BEGIN:VEVENT
DTSTART;VALUE=DATE:20241007
DTEND;VALUE=DATE:20241012
DTSTAMP:20260420T124049
CREATED:20240605T094340Z
LAST-MODIFIED:20250114T075635Z
UID:4855-1728259200-1728691199@kokopol.eu
SUMMARY:Lehrerfortbildung "Polski jest fajny"
DESCRIPTION:In der Fortbildung werden Vorschläge zur Berücksichtigung polnischer Themen im Lehrplan angeboten bzw. gemeinsam erarbeitet\, Zusatzmaterial verschiedener Anbieter gesichtet und Unterrichtsszenarien diskutiert. Im kollegialen Austausch werden Ideen zur Mobilisierung des in der Klasse vorhandenen Polnisch-Potentials bei deutschen und polnischen Schüler/-innen entwickelt\, um Polnisch im Schüleraustausch und im AG-Bereich zu stärken und um die Integration zweisprachiger Klassen voranzutreiben. \nZielgruppe sind Lehrkräfte\, die: \n> Schüler/-innen aus Polen oder mit polnischem Hintergrund in ihren Klassen haben;\n> Schulprojekte/Schüleraustausch mit Polen planen oder bereits betreuen;\n> Polnische/osteuropäische Themen in ihrem Unterricht stärker berücksichtigen wollen. \nDa es eine starke Binnendifferenzierung der Sprachkenntnisse der angemeldeten Teilnehmer/-innen gibt\, erfolgt die Einteilung in zwei Gruppen:\nGruppe 1: Mit Polnisch als Mutter- oder Herkunftssprache\, B2-C2\nGruppe 2: Ohne Polnisch-Vorkenntnisse\, A0\nDie Beschulung der Gruppe erfolgt über gemeinsame sowie getrennte Module. \nDie Fortbildung ist anerkannt vom Sächsischen Landesamt für Schule und Bildung (LASUB)\, dem Landesinstitut für Schule und Medien Berlin-Brandenburg (LISUM) sowie dem Institut für Qualitätsentwicklung des Ministeriums für Bildung und Kindertagesförderung Mecklenburg-Vorpommern und ist in deren Fortbildungskatalogen gelistet. \nKursprogramm\, Übernachtung und Verpflegung sind für Teilnehmende kostenlos. \nDie Maßnahme wird mitfinanziert durch Steuermittel auf der Grundlage des von den Abgeordneten des Sächsischen Landtags beschlossenen Haushalts. \nProgramm\n!!! Die Veranstaltung musste wegen zu geringer Teilnehmerzahl leider abgesagt werden!!!
URL:https://kokopol.eu/event/lehrerfortbildung-polski-jest-fajny-3/
LOCATION:IBZ St. Marienthal\, St. Marienthal 10\, Ostritz\, 02899\, Deutschland
ATTACH;FMTTYPE=image/png:https://kokopol.eu/wp-content/uploads/2024/09/Lehrer_WebFB.png
ORGANIZER;CN="KoKoPol":MAILTO:schorr@kokopol.eu
END:VEVENT
END:VCALENDAR