BEGIN:VCALENDAR
VERSION:2.0
PRODID:-//KoKoPol Kompetenz- und Koordinationszentrum Polnisch - ECPv6.15.20//NONSGML v1.0//EN
CALSCALE:GREGORIAN
METHOD:PUBLISH
X-ORIGINAL-URL:https://kokopol.eu
X-WR-CALDESC:Veranstaltungen für KoKoPol Kompetenz- und Koordinationszentrum Polnisch
REFRESH-INTERVAL;VALUE=DURATION:PT1H
X-Robots-Tag:noindex
X-PUBLISHED-TTL:PT1H
BEGIN:VTIMEZONE
TZID:Europe/Berlin
BEGIN:DAYLIGHT
TZOFFSETFROM:+0100
TZOFFSETTO:+0200
TZNAME:CEST
DTSTART:20230326T010000
END:DAYLIGHT
BEGIN:STANDARD
TZOFFSETFROM:+0200
TZOFFSETTO:+0100
TZNAME:CET
DTSTART:20231029T010000
END:STANDARD
BEGIN:DAYLIGHT
TZOFFSETFROM:+0100
TZOFFSETTO:+0200
TZNAME:CEST
DTSTART:20240331T010000
END:DAYLIGHT
BEGIN:STANDARD
TZOFFSETFROM:+0200
TZOFFSETTO:+0100
TZNAME:CET
DTSTART:20241027T010000
END:STANDARD
BEGIN:DAYLIGHT
TZOFFSETFROM:+0100
TZOFFSETTO:+0200
TZNAME:CEST
DTSTART:20250330T010000
END:DAYLIGHT
BEGIN:STANDARD
TZOFFSETFROM:+0200
TZOFFSETTO:+0100
TZNAME:CET
DTSTART:20251026T010000
END:STANDARD
END:VTIMEZONE
BEGIN:VEVENT
DTSTART;VALUE=DATE:20241104
DTEND;VALUE=DATE:20241106
DTSTAMP:20260420T154152
CREATED:20240125T090607Z
LAST-MODIFIED:20241101T073745Z
UID:3344-1730678400-1730851199@kokopol.eu
SUMMARY:Fachtagung "Sprache und Geschichte - Polnisch im deutschen Bildungssystem"
DESCRIPTION:„Polen und seine historische Verflechtung mit Deutschland in der mentalen Landkarte der deutschen Gesellschaft zu verankern“ bedarf weiterer Anstrengungen\, stellt der Koordinator der Bundesregierung für die Zusammenarbeit mit Polen\, Dietmar Nietan\, MdB\, fest [1]. KoKoPol schließt sich dieser Einschätzung mit gezieltem Blick auf die polnische Sprache ̶ den Sprachunterricht und die Förderung der polnischen Herkunftssprache ̶ an. Polnische Themen haben im Unterricht an deutschen Schulen wenig Platz: Laut Umfragen gibt nur ein Drittel der befragten deutschen Schüler/-innen an\, ihr Wissen über polnische Geschichte und Kultur in der Schule erworben zu haben [2]. Nur wenige Kilometer von der Grenze entfernt\, sucht man Polnisch als Fremdsprache im Sprachprofil der Gymnasien vergeblich. \nNachdem wir im November 2023 in der ersten von drei geplanten Konferenzen zu polnischen Themen und polnischer Sprache an deutschen Schulen unser Augenmerk auf die „Abwesenheitsorte“ richteten\, an denen das Wissen über den östlichen Nachbarn mit Gewinn einen Platz haben könnte\, widmen wir uns nun den curricularen Rahmenbedingungen\, den schulischen Praxen und der deutsch-polnischen Schulbuchreihe „Europa ̶ unsere Geschichte / Europa. Nasza historia“ als jenen Stellen der deutschen Bildungslandschaft\, wo die polnische Sprache und die polnischen Themen der grundsätzlich bescheidenen Anwesenheit zum Trotz ihren Platz heute schon finden. \nSo möchte die Fachtagung einen Überblick über bestehende Angebote geben\, Vergleiche ziehen\, Potentiale aufzeigen und Beispiele guter Praxis vorstellen. Im Mittelpunkt stehen die schulischen Angebote\, jedoch soll auch der außerschulische Beitrag der Polonia-Organisationen im Bereich Herkunftssprache Polnisch beleuchtet werden. \nDie Tagung umfasst vier Schwerpunkte: \n\nVergleich der Lehrpläne ausgewählter Bundesländer im Hinblick auf die Möglichkeit\, Polnisch als Fremdsprache anzubieten;\nAnalyse des Lernfeldes HSU Polnisch unter Berücksichtigung der Lehrpläne\, der Akteure\, der Zusammenarbeit zwischen Bildungsministerien und der polnischen Community sowie der Lehrerausbindungsmöglichkeiten;\nUmreißen des Bereichs von Zusatzoptionen einer Sprachbegegnung mit Polnisch wie Nachmittagsarbeitsgruppen (z.B. an Ganztagsschulen)\, Projekttage und Jugendaustausch;\nAusloten der Potenziale der deutsch-polnischen Schulbuchreihe „Europa ̶ unsere Geschichte / Europa. Nasza historia“ für den Polnischunterricht.\n\nKoKoPol nimmt die Tagung zum Anlass erstmalig die geplante Studie zum Bedarf an Lernangeboten in Polnisch als Herkunftssprache vorzustellen. Kooperationspartner der Studie sind das Institut für Umfragen\, Analysen und DataScience (UADS) in Duisburg sowie der Lehrstuhl für slawistische Sprachwissenschaft der Universität Konstanz. \n[1] Nietan\, Dietmar 2024: Jetzt oder nie! Strategische Partnerschaft für Europa. In: Dialog\, 147\, S. 35.\n[2] Vgl. Łada-Konefał\, Agnieszka 2022: Junge Erwachsene aus Deutschland und Polen über Wissensquellen und das Bild des Nachbarlandes. Deutsch-Polnisches Barometer 2022. Sonderausgabe Jugend. Hg. Institut für Öffentliche Angelegenheiten\, Warschau / Deutsches Polen-Institut\, Darmstadt\, S. 49; PISM 2023: Polska w oczach Niemców. Raport […]. Hg. Polski Instytut Spraw Międzynarodowych\, Warschau\, S. 16. \nProgramm\n  \nAnmeldungen bis 03.11.2024: \nZur Anmeldung\n  \nTeilnahme\, Unterkunft und Verpflegung sind kostenfrei. Die Maßnahme wird gefördert aus Mitteln des Auswärtigen Amts. \n 
URL:https://kokopol.eu/event/fachtagung-2024/
LOCATION:IBZ St. Marienthal\, St. Marienthal 10\, Ostritz\, 02899\, Deutschland
ATTACH;FMTTYPE=image/png:https://kokopol.eu/wp-content/uploads/2024/01/Spurensuche_WebFB.png
ORGANIZER;CN="KoKoPol":MAILTO:schorr@kokopol.eu
END:VEVENT
BEGIN:VEVENT
DTSTART;VALUE=DATE:20241115
DTEND;VALUE=DATE:20241117
DTSTAMP:20260420T154152
CREATED:20240910T063158Z
LAST-MODIFIED:20241113T092756Z
UID:6106-1731628800-1731801599@kokopol.eu
SUMMARY:"Polski ist cool" - Konferenz in Berlin
DESCRIPTION:Offensichtlich! Wir wollen Polnisch sichtbar machen und brauchen eure Hilfe\, neue Ansätze zur Popularisierung der polnischen Sprache in Deutschland zu finden. Welche Projekte sind sinnvoll für die Verbreitung der polnischen Sprache und wie können Fördermittel gut eingesetzt werden?\nDie Antwort auf diese und weitere Fragen erfahrt ihr bei der KoKoPol-Konferenz im Workshopformat für die Vernetzung von Polonia-Vereinen! Die Veranstaltung findet vom 15. bis 16. November 2024 in Berlin statt. \nDie Teilnahme (Programm\, Verpflegung und Unterkunft im EZ) ist kostenlos. Reisekosten werden von uns nicht übernommen oder bezuschusst. \nProgramm „Polski ist cool – Mut zur polnischen Sprache in Deutschland“ \nFreitag // Piątek 15.11.24\, Moderation: Dr. Erik Malchow (KoKoPol) \n15:00 Ankunft // Przyjazd\, Stehkaffee\n16:00 Eröffnung // Otwarcie mgr Jakub K. Sawicki\, CBH Berlin\,\nBegrüßung Gregor Schaaf-Schuchardt\, Voritzender der Stiftung IBZ St. Marienthal\n16:30 Video-Grußwort // Pozdrowienia Dietmar Nietan\, MdB\n16:45 Grußwort // Pozdrowienia Katarzyna Niewiedzial\, Beauftragte des Berliner Senats für Partizipation\, Integration und Migration\n17:00 Keynote Dr. habil. Brygida Helbig: „Die Sprache der Polonia – hörbar un(d)sichtbar?“ // „Język Polonii – słyszalny i (nie)widzialny?”\n18:00 Die Polonia-Organisationen stellen sich vor – Posterpräsentation // Prezentacje organizacji polonijnych\n19:00 KoKoPol-Empfang zur Eröffnung des Berliner Büros // Przyjęcie na otwarcie Biura KoKoPol\n20:00 Musikalisches Abendprogramm: DUXIUS – Polish Future Retro \nSamstag // Sobota 16.11.24 \n9:30 Ankunft und Stehkaffee\n10:00 Resümee // Podsumowanie des Vortags\n10:30 Przedstawienie kampanii // Vorstellung der Kampagne „Polski ist cool“\, Dr. Erik Malchow\n11:00 Podiumsgespräch – Hörbar in Deutschland\, Moderation: Dr. Magdalena Telus\n12:00 Brainstorming und Transfer in Kleingruppen // transfer w małych grupach\n13:00 Mittagspause // przerwa obiadowa\n14:00 Transfer in Kleingruppen // transfer w małych grupach\n15:00 Kaffeepause // przerwa na kawę\n15:30 Präsentationen // Prezentacje\n16:00 Perspektiven // perspektywy\, Dr. Erik Malchow\n16:30 Ende // koniec \nOrt // Miejsce: Zentrum für Historische Forschung Berlin der Polnischen Akademie der Wissenschaften // Centrum Badań Historycznych Polskiej Akademii Nauk w Berlinie (Majakowskiring 47\, 13156 Berlin) \nProgramm (PDF)\n  \nAnmeldung bis zum 25. Oktober 2024: \nAnmeldung
URL:https://kokopol.eu/event/polonia-konferenz-in-berlin/
LOCATION:Zentrum für Historische Forschung Berlin der Polnischen Akademie der Wissenschaften\, Majakowskiring 47\, Berlin\, 13156
ATTACH;FMTTYPE=image/png:https://kokopol.eu/wp-content/uploads/2024/09/Poloniakonferenz_WebFacebook.png
ORGANIZER;CN="KoKoPol":MAILTO:schorr@kokopol.eu
END:VEVENT
BEGIN:VEVENT
DTSTART;VALUE=DATE:20241116
DTEND;VALUE=DATE:20241117
DTSTAMP:20260420T154152
CREATED:20240903T094737Z
LAST-MODIFIED:20240923T114059Z
UID:5825-1731715200-1731801599@kokopol.eu
SUMMARY:Zertifikatsprüfung „Certyfikat Polski B1“
DESCRIPTION:In Kooperation mit der Universität Danzig (Uniwersytet Gdański) bietet das Kompetenz- und Koordinationszentrum Polnisch (KoKoPol) die Prüfung „Certyfikat Polski B1“ an. Die Prüfung besteht aus einem schriftlichen (vormittags) und einem mündlichen Teil (nachmittags). Den schriftlichen Teil schreiben alle Teilnehmenden gleichzeitig\, die mündliche Prüfung findet einzeln statt. \nDie Prüfungsgebühr in Höhe von 150 € pro Teilnehmenden wird von KoKoPol übernommen\, die Gebühr in Höhe von 20 € für die Ausstellung des Zertifikats (nach bestandener Prüfung) tragen die Teilnehmenden selbst. \nÜbernachtungen vom 15. bis 17.11. (bei Bedarf) sowie Verpflegung sind für die Teilnehmenden kostenlos. \nWeitere Infos zur Prüfung und Ablauf unter: https://certyfikatpolski.pl/o-egzaminie/ \nzur Anmeldung
URL:https://kokopol.eu/event/pruefung-certyfikat-polski-2024/
LOCATION:Sachsen
ATTACH;FMTTYPE=image/png:https://kokopol.eu/wp-content/uploads/2024/09/Pruefung_WebFB-1.png
ORGANIZER;CN="KoKoPol":MAILTO:schorr@kokopol.eu
END:VEVENT
BEGIN:VEVENT
DTSTART;VALUE=DATE:20241122
DTEND;VALUE=DATE:20241124
DTSTAMP:20260420T154152
CREATED:20240822T130039Z
LAST-MODIFIED:20241118T143450Z
UID:5619-1732233600-1732406399@kokopol.eu
SUMMARY:Workshop "Best Practices im Unterricht von Polnisch als Herkunftssprache"
DESCRIPTION:Workshop Best Practices im Unterricht Polnisch als Herkunftssprache\,\n22.11.2024 – 23.11.2024\, CVJM Hotel „Am Wollmarkt“\, Braunschweig\nDas Kompetenz- und Koordinationszentrum Polnisch (KoKoPol) lädt herzlich zu einem Workshop über Best Practices im außerschulischen Unterricht von Polnisch als Herkunftssprache ein. Polonia-Organisationen haben die Möglichkeit\, ihre Aktivitäten und Erfahrungen zu präsentieren\, damit Organisationen in anderen Bundesländern davon lernen und profitieren können. \n\nWie können wir neue Gruppen gründen?\nWie bekommen wir qualifizierte Lehrer/-innen?\nWas tun wir\, um sicherzustellen\, dass der außerschulische Polnischunterricht ins Schulzeugnis aufgenommen wird?\nWie ermutigen wir junge Menschen\, an Zertifikatsprüfungen teilzunehmen?\nWie erhalten wir kostenloses Lehrmaterial?\nWie erstellt man einen neuen Lehrplan oder ein neues Unterrichtskonzept?\n\nDies sind nur einige der Fragen\, die uns während des Treffens begleiten werden. Das Motto des Workshops lautet: „Lernen wir voneinander!“. \nDer Workshop findet im CVJM Hotel „Am Wollmarkt“ in Braunschweig statt. Unterkunft und Verpflegung sind für Teilnehmende kostenlos. \nAnreise bis Freitag\, 22.11.24\, 13:00 Uhr\, Abreise am Samstag\, 23.11.2024\, ab 13:00 Uhr. \nProgramm (PDF)\n  \nWir freuen uns auf Ihre Anmeldungen. \nAnmeldung
URL:https://kokopol.eu/event/workshop-best-practices-im-unterricht-von-polnisch-als-herkunftssprache-2/
LOCATION:CVJM Hotel „Am Wollmarkt“ Braunschweig\, Wollmarkt 9-12\, Braunschweig\, Niedersachsen\, 38100\, Deutschland
ATTACH;FMTTYPE=image/png:https://kokopol.eu/wp-content/uploads/2024/09/BestPractice_WebFB.png
ORGANIZER;CN="KoKoPol":MAILTO:schorr@kokopol.eu
END:VEVENT
BEGIN:VEVENT
DTSTART;VALUE=DATE:20241126
DTEND;VALUE=DATE:20241128
DTSTAMP:20260420T154152
CREATED:20241107T112650Z
LAST-MODIFIED:20241121T142810Z
UID:6563-1732579200-1732751999@kokopol.eu
SUMMARY:Polnisch-Weiterbildung für Kita-Personal
DESCRIPTION:Schwerpunkte/Kursbeschreibung: \n\nEinstiegskompetenzen in polnischer Sprache (Aussprache\, Begrüßung\, Zählen\, Gratulieren)\nBerufsspezifisches Vokabular im Kita-Alltag\nInterkulturelle Kommunikation Deutschland-Polen (Anrede\, allgemeine interkulturelle Unterschiede\, mündliche versus schriftliche Ansprachen\, Beziehungsebene)\nMehrsprachigkeit: aktueller wissenschaftlicher Stand\n\nDie Veranstaltung soll bestehende Unsicherheiten gegenüber polnischen Kindern und Elternhäusern abbauen\, erste Einstiegskompetenzen in polnischer Sprache vermitteln und einen kurzen Einblick in den aktuellen Stand der Wissenschaft zu mehrsprachiger Erziehung geben. \nDer Unterricht wird am IBZ St. Marienthal durchgeführt.  Das Seminar\, Verpflegung\, Kaffee und Tee stehen kostenfrei bereit. \nAnmeldefrist ist der 21.11.2024. \nDas Seminar ist eine Kooperationsveranstaltung von KoKoPol mit der LaNa (Sächsische Landesstelle für nachbarsprachige Bildung). \nDie Maßnahme wird mitfinanziert durch Steuermittel auf der Grundlage des von den Abgeordneten des Sächsischen Landtags beschlossenen Haushaltes. \nAnmeldung\n  \nProgramm\n 
URL:https://kokopol.eu/event/polnisch-weiterbildung-fuer-kita-personal/
LOCATION:IBZ St. Marienthal\, St. Marienthal 10\, Ostritz\, 02899\, Deutschland
ATTACH;FMTTYPE=image/png:https://kokopol.eu/wp-content/uploads/2024/11/Web_kita.png
ORGANIZER;CN="KoKoPol":MAILTO:schorr@kokopol.eu
END:VEVENT
BEGIN:VEVENT
DTSTART;VALUE=DATE:20241129
DTEND;VALUE=DATE:20241201
DTSTAMP:20260420T154152
CREATED:20241022T125553Z
LAST-MODIFIED:20241022T131502Z
UID:6497-1732838400-1733011199@kokopol.eu
SUMMARY:Fortbildung: Schullektüre in der Entwicklung des Kindes. Förderung der Sprachentwicklung und Lesemotivation
DESCRIPTION:Fortbildung für Lehrer/-innen im Unterricht Herkunftssprache Polnisch zum Thema: „Schullektüre in der  Entwicklung des Kindes. Förderung der Sprachentwicklung und Lesemotivation“ \nVeranstaltungort: Kongresszentrum Köln \nReferentin: Liliana Barejko-Knops\, KoKoPol und Verein der Polnischlehrer ind Pädagogen in Deutschland e.V. \nAnmeldung\nAchtung: Die Veranstaltung ist bereits ausgebucht. \nDie Maßnahme wird mitfinanziert durch Mittel des Auswärtigen Amtes.
URL:https://kokopol.eu/event/fortbildung-schullektuere-in-der-entwicklung-des-kindes-foerderung-der-sprachentwicklung-und-lesemotivation/
LOCATION:Kongresszentrum Köln
ATTACH;FMTTYPE=image/png:https://kokopol.eu/wp-content/uploads/2024/10/FbWeb_Schullektuere.png
END:VEVENT
END:VCALENDAR